BEGIN:VCALENDAR
VERSION:2.0
CALSCALE:GREGORIAN
PRODID:adamgibbons/ics
METHOD:PUBLISH
X-PUBLISHED-TTL:PT1H
BEGIN:VEVENT
UID:4062@localhost
SUMMARY:Flinta* Werkstatt -Räder frühjahrsfit machen
DTSTAMP:20260422T141425Z
DTSTART:20260424T143000Z
DTEND:20260424T200000Z
DESCRIPTION:"Räder frühjahrsfit machen" in der Radwerkstatt des Centros. Ko
	mmt vorbei wir\nhelfen uns gegenseitig. Gemeinsam kriegen wir es hin."
URL:https://centrosociale.de/event/flinta-werkstatt-intern-30
LOCATION:- - -
STATUS:CONFIRMED
CATEGORIES:Werkstatt
X-ALT-DESC;FMTTYPE=text/html:<code>"Räder frühjahrsfit machen" in der Radwe
	rkstatt des Centros. <br>Kommt vorbei wir helfen uns gegenseitig. <br>Geme
	insam kriegen wir es hin."<br></code>
BEGIN:VALARM
ACTION:DISPLAY
DESCRIPTION:Flinta* Werkstatt -Räder frühjahrsfit machen
TRIGGER:-PT1H
END:VALARM
END:VEVENT
END:VCALENDAR
